BEGIN:VCALENDAR
VERSION:2.0
PRODID:spatie/icalendar-generator
DESCRIPTION:Events from Anderson Farms
X-WR-CALDESC:Events from Anderson Farms
REFRESH-INTERVAL;VALUE=DURATION:PT1440M
X-PUBLISHED-TTL:PT1440M
BEGIN:VTIMEZONE
TZID:Etc/GMT+0
BEGIN:STANDARD
DTSTART:20250310T160000Z
TZOFFSETFROM:+0000
TZOFFSETTO:+0000
END:STANDARD
END:VTIMEZONE
BEGIN:VTIMEZONE
TZID:UTC
BEGIN:STANDARD
DTSTART:20250728T224921Z
TZOFFSETFROM:+0000
TZOFFSETTO:+0000
END:STANDARD
END:VTIMEZONE
BEGIN:VEVENT
UID:614-243
DTSTAMP:20260424T224921Z
SUMMARY:Festival of Trees
LOCATION:Center for African American History\, Art &amp;amp\; Culture 120 York 
 St NE  Aiken SC 29801
ORGANIZER;CN=Summer:MAILTO:staylor@woodsidecommunities.com
DTSTART;TZID=Etc/GMT+0:20251205T160000
DTEND;TZID=Etc/GMT+0:20260103T170000
X-ALT-DESC;FMTTYPE=TEXT/HTML:Celebrate the holiday season at the annual Fes
 tival of Trees\, hosted at the Center for African American History\, Art &amp;
 amp\; Culture. The festivities begin with a special tree lighting ceremony
 \, followed by weeks of holiday cheer. Stroll through beautifully decorate
 d trees and cast your vote for your favorite! Click here for more informat
 ion about this&amp;hellip\;
CATEGORIES:Aiken Event
URL;VALUE=URI:https://www.andersonfarmsaiken.com/mc-events/festival-of-tree
 s-2/
METHOD:PUBLISH
END:VEVENT
END:VCALENDAR