BEGIN:VCALENDAR
VERSION:2.0
PRODID:spatie/icalendar-generator
DESCRIPTION:Events from Anderson Farms
X-WR-CALDESC:Events from Anderson Farms
REFRESH-INTERVAL;VALUE=DURATION:PT1440M
X-PUBLISHED-TTL:PT1440M
BEGIN:VTIMEZONE
TZID:Etc/GMT+0
BEGIN:STANDARD
DTSTART:20250302T113000Z
TZOFFSETFROM:+0000
TZOFFSETTO:+0000
END:STANDARD
END:VTIMEZONE
BEGIN:VTIMEZONE
TZID:UTC
BEGIN:STANDARD
DTSTART:20250728T164722Z
TZOFFSETFROM:+0000
TZOFFSETTO:+0000
END:STANDARD
END:VTIMEZONE
BEGIN:VEVENT
UID:608-237
DTSTAMP:20260424T164722Z
SUMMARY:Thanksgiving Brunch
LOCATION:The Reserve Club at Woodside 3000 The Reserve Club Drive  Aiken SC
  29803
ORGANIZER;CN=Summer:MAILTO:staylor@woodsidecommunities.com
DTSTART;TZID=Etc/GMT+0:20251127T113000
DTEND;TZID=Etc/GMT+0:20251127T133000
X-ALT-DESC;FMTTYPE=TEXT/HTML:Thoughts of what you're going to prep this Tha
 nksgiving already clogging your brain? The Reserve Club has you covered wi
 th a full-service Thanksgiving Buffet and all your favorite holiday dishes
  to enjoy. Click here to reserve a take-out meal or to register on the Clu
 b's Social Calendar!
CATEGORIES:Reserve Club Event
URL;VALUE=URI:https://www.andersonfarmsaiken.com/mc-events/thanksgiving-bru
 nch-2/
METHOD:PUBLISH
END:VEVENT
END:VCALENDAR