BEGIN:VCALENDAR
VERSION:2.0
PRODID:spatie/icalendar-generator
DESCRIPTION:Events from Anderson Farms
X-WR-CALDESC:Events from Anderson Farms
REFRESH-INTERVAL;VALUE=DURATION:PT1440M
X-PUBLISHED-TTL:PT1440M
BEGIN:VTIMEZONE
TZID:Etc/GMT+0
BEGIN:STANDARD
DTSTART:20250119T160000Z
TZOFFSETFROM:+0000
TZOFFSETTO:+0000
END:STANDARD
END:VTIMEZONE
BEGIN:VTIMEZONE
TZID:UTC
BEGIN:STANDARD
DTSTART:20250727T092556Z
TZOFFSETFROM:+0000
TZOFFSETTO:+0000
END:STANDARD
END:VTIMEZONE
BEGIN:VEVENT
UID:587-216
DTSTAMP:20260423T092556Z
SUMMARY:Neighborhood Information Meeting
LOCATION:Cherry Park Pavilion Wild Cherry Row  Aiken SC 29803
ORGANIZER;CN=Summer:MAILTO:staylor@woodsidecommunities.com
DTSTART;TZID=Etc/GMT+0:20251016T160000
DTEND;TZID=Etc/GMT+0:20251016T170000
X-ALT-DESC;FMTTYPE=TEXT/HTML:Join us for a presentation about future plans 
 for Anderson Farms! We don't expect to be longer than an hour\, but please
  bring a lawn chair if you wish to sit. Light refreshments will be provide
 d. This event is open to all Anderson Farms and Bridgewater residents. Ple
 ase email bkerley@woodsidecommunities.com to RSVP your party before&amp;hellip
 \;
CATEGORIES:Anderson Farms Event
URL;VALUE=URI:https://www.andersonfarmsaiken.com/mc-events/neighborhood-inf
 ormation-meeting/
METHOD:PUBLISH
END:VEVENT
END:VCALENDAR