BEGIN:VCALENDAR
VERSION:2.0
PRODID:spatie/icalendar-generator
DESCRIPTION:Events from Anderson Farms
X-WR-CALDESC:Events from Anderson Farms
REFRESH-INTERVAL;VALUE=DURATION:PT1440M
X-PUBLISHED-TTL:PT1440M
BEGIN:VTIMEZONE
TZID:Etc/GMT+0
BEGIN:STANDARD
DTSTART:20250204T170000Z
TZOFFSETFROM:+0000
TZOFFSETTO:+0000
END:STANDARD
END:VTIMEZONE
BEGIN:VTIMEZONE
TZID:UTC
BEGIN:STANDARD
DTSTART:20250727T144611Z
TZOFFSETFROM:+0000
TZOFFSETTO:+0000
END:STANDARD
END:VTIMEZONE
BEGIN:VEVENT
UID:586-212
DTSTAMP:20260423T144611Z
SUMMARY:Fall Music Night: with Tim Barnett
LOCATION:Cherry Park Pavilion Wild Cherry Row  Aiken SC 29803
ORGANIZER;CN=Summer:MAILTO:staylor@woodsidecommunities.com
DTSTART;TZID=Etc/GMT+0:20251101T170000
DTEND;TZID=Etc/GMT+0:20251101T190000
X-ALT-DESC;FMTTYPE=TEXT/HTML:Celebrate the arrival of Fall with a lively ni
 ght of country tunes! Pack your favorite sips\, snacks\, pick a spot on th
 e Cherry Park lawn\, and enjoy an unforgettable performance by local artis
 t Tim Barnett. All Anderson Farms residents are invited to this neighborho
 od event. RSVP your party to bkerley@woodsidecommunities.com.
CATEGORIES:Anderson Farms Event
URL;VALUE=URI:https://www.andersonfarmsaiken.com/mc-events/fall-music-night
 -with-tim-barnett-2/
METHOD:PUBLISH
END:VEVENT
END:VCALENDAR