BEGIN:VCALENDAR
VERSION:2.0
PRODID:spatie/icalendar-generator
DESCRIPTION:Events from Anderson Farms
X-WR-CALDESC:Events from Anderson Farms
REFRESH-INTERVAL;VALUE=DURATION:PT1440M
X-PUBLISHED-TTL:PT1440M
BEGIN:VTIMEZONE
TZID:Etc/GMT+0
BEGIN:STANDARD
DTSTART:20241224T160000Z
TZOFFSETFROM:+0000
TZOFFSETTO:+0000
END:STANDARD
END:VTIMEZONE
BEGIN:VTIMEZONE
TZID:UTC
BEGIN:STANDARD
DTSTART:20250725T005940Z
TZOFFSETFROM:+0000
TZOFFSETTO:+0000
END:STANDARD
END:VTIMEZONE
BEGIN:VEVENT
UID:579-209
DTSTAMP:20260421T005940Z
SUMMARY:Aiken Oktoberfest
LOCATION:Downtown Aiken Downtown Aiken  Aiken SC 29801
ORGANIZER;CN=Summer:MAILTO:staylor@woodsidecommunities.com
DTSTART;TZID=Etc/GMT+0:20250920T160000
DTEND;TZID=Etc/GMT+0:20250920T210000
X-ALT-DESC;FMTTYPE=TEXT/HTML:Raise a stein and celebrate the season at this
  year’s annual Oktoberfest! Enjoy local brews\, German bites\, live musi
 c\, and festive vibes right in the heart of downtown Aiken. Click here for
  more information about this event!
CATEGORIES:Aiken Event
URL;VALUE=URI:https://www.andersonfarmsaiken.com/mc-events/aiken-oktoberfes
 t/
METHOD:PUBLISH
END:VEVENT
END:VCALENDAR