BEGIN:VCALENDAR
VERSION:2.0
PRODID:spatie/icalendar-generator
DESCRIPTION:Events from Anderson Farms
X-WR-CALDESC:Events from Anderson Farms
REFRESH-INTERVAL;VALUE=DURATION:PT1440M
X-PUBLISHED-TTL:PT1440M
BEGIN:VTIMEZONE
TZID:Etc/GMT+0
BEGIN:STANDARD
DTSTART:20241209T090000Z
TZOFFSETFROM:+0000
TZOFFSETTO:+0000
END:STANDARD
END:VTIMEZONE
BEGIN:VTIMEZONE
TZID:UTC
BEGIN:STANDARD
DTSTART:20250724T205429Z
TZOFFSETFROM:+0000
TZOFFSETTO:+0000
END:STANDARD
END:VTIMEZONE
BEGIN:VEVENT
UID:578-208
DTSTAMP:20260420T205429Z
SUMMARY:Aiken's Makin' Arts &amp;amp\; Craft Show
LOCATION:Downtown Aiken Downtown Aiken  Aiken SC 29801
ORGANIZER;CN=Summer:MAILTO:staylor@woodsidecommunities.com
DTSTART;TZID=Etc/GMT+0:20250905T090000
DTEND;TZID=Etc/GMT+0:20250906T100000
X-ALT-DESC;FMTTYPE=TEXT/HTML:One of downtown Aiken’s most beloved traditi
 ons – a two-day celebration of Southern creativity!  Experience the hea
 rt of the community with:  200+ local and regional vendors  Handcrafted 
 art\, jewelry\, &amp;amp\; home goods  Live entertainment   Food vendors  
 Click here for more information about this event!
CATEGORIES:Aiken Event
URL;VALUE=URI:https://www.andersonfarmsaiken.com/mc-events/aikens-makin-art
 s-craft-show/
METHOD:PUBLISH
END:VEVENT
END:VCALENDAR