BEGIN:VCALENDAR
VERSION:2.0
PRODID:spatie/icalendar-generator
DESCRIPTION:Events from Anderson Farms
X-WR-CALDESC:Events from Anderson Farms
REFRESH-INTERVAL;VALUE=DURATION:PT1440M
X-PUBLISHED-TTL:PT1440M
BEGIN:VTIMEZONE
TZID:Etc/GMT+0
BEGIN:STANDARD
DTSTART:20240829T113000Z
TZOFFSETFROM:+0000
TZOFFSETTO:+0000
END:STANDARD
END:VTIMEZONE
BEGIN:VTIMEZONE
TZID:UTC
BEGIN:STANDARD
DTSTART:20250724T041647Z
TZOFFSETFROM:+0000
TZOFFSETTO:+0000
END:STANDARD
END:VTIMEZONE
BEGIN:VEVENT
UID:555-190
DTSTAMP:20260420T041647Z
SUMMARY:Memorial Day BBQ Buffet
LOCATION:The Reserve Club at Woodside 3000 The Reserve Club Drive  Aiken SC
  29803
ORGANIZER;CN=Summer:MAILTO:staylor@woodsidecommunities.com
DTSTART;TZID=Etc/GMT+0:20250526T113000
DTEND;TZID=Etc/GMT+0:20250526T133000
X-ALT-DESC;FMTTYPE=TEXT/HTML:Join us at The Reserve Club for our annual Mem
 orial Day BBQ Buffet and Celebration\, a festive afternoon of great food\,
  live music\, and patriotic spirit. Enjoy chef-prepared barbecue favorites
 \, lawn games\, and fun for the whole family as we honor and remember thos
 e who served. Click here for more information about this event!
CATEGORIES:Reserve Club Event
URL;VALUE=URI:https://www.andersonfarmsaiken.com/mc-events/memorial-day-bbq
 -buffet/
METHOD:PUBLISH
END:VEVENT
END:VCALENDAR