BEGIN:VCALENDAR
VERSION:2.0
PRODID:spatie/icalendar-generator
DESCRIPTION:Events from Anderson Farms
X-WR-CALDESC:Events from Anderson Farms
REFRESH-INTERVAL;VALUE=DURATION:PT1440M
X-PUBLISHED-TTL:PT1440M
BEGIN:VTIMEZONE
TZID:Etc/GMT+0
BEGIN:STANDARD
DTSTART:20240910T100000Z
TZOFFSETFROM:+0000
TZOFFSETTO:+0000
END:STANDARD
END:VTIMEZONE
BEGIN:VTIMEZONE
TZID:UTC
BEGIN:STANDARD
DTSTART:20250723T215016Z
TZOFFSETFROM:+0000
TZOFFSETTO:+0000
END:STANDARD
END:VTIMEZONE
BEGIN:VEVENT
UID:548-184
DTSTAMP:20260419T215016Z
SUMMARY:Pollinator Expo
LOCATION:Cold Creek Nurseries 398 Hitchcock Parkway  Aiken SC 29801
ORGANIZER;CN=Summer:MAILTO:staylor@woodsidecommunities.com
DTSTART;TZID=Etc/GMT+0:20250607T100000
DTEND;TZID=Etc/GMT+0:20250607T140000
X-ALT-DESC;FMTTYPE=TEXT/HTML:Stop by Coldcreek Nurseries for a buzzworthy e
 vent dedicated to our vital pollinators! Explore a curated selection of lo
 cal vendors specializing in pollinators\, shop a fantastic sale on perenni
 als\, and enjoy delicious bites from your favorite food trucks. Click here
  for more information about this event! 
CATEGORIES:Aiken Event
URL;VALUE=URI:https://www.andersonfarmsaiken.com/mc-events/pollinator-expo/
METHOD:PUBLISH
END:VEVENT
END:VCALENDAR