BEGIN:VCALENDAR
VERSION:2.0
PRODID:spatie/icalendar-generator
DESCRIPTION:Events from Anderson Farms
X-WR-CALDESC:Events from Anderson Farms
REFRESH-INTERVAL;VALUE=DURATION:PT1440M
X-PUBLISHED-TTL:PT1440M
BEGIN:VTIMEZONE
TZID:Etc/GMT+0
BEGIN:STANDARD
DTSTART:20240902T173000Z
TZOFFSETFROM:+0000
TZOFFSETTO:+0000
END:STANDARD
END:VTIMEZONE
BEGIN:VTIMEZONE
TZID:UTC
BEGIN:STANDARD
DTSTART:20250724T025716Z
TZOFFSETFROM:+0000
TZOFFSETTO:+0000
END:STANDARD
END:VTIMEZONE
BEGIN:VEVENT
UID:547-183
DTSTAMP:20260420T025716Z
SUMMARY:Blind Wine Tasting
LOCATION:Solo Vino Marchand de Vin 110 Horry Street SE  Aiken SC 29801
ORGANIZER;CN=Summer:MAILTO:staylor@woodsidecommunities.com
DTSTART;TZID=Etc/GMT+0:20250530T173000
DTEND;TZID=Etc/GMT+0:20250530T183000
X-ALT-DESC;FMTTYPE=TEXT/HTML:Discover a carefully curated selection of wine
 s from top domestic and international vineyards at this East Side gem. Whe
 ther you're picking up a bottle to take home or unwinding with a glass on 
 the inviting outdoor patio\, this wine shop offers the perfect setting to 
 explore new flavors! Click here for more information about this&amp;hellip\;
CATEGORIES:Aiken Event
URL;VALUE=URI:https://www.andersonfarmsaiken.com/mc-events/blind-wine-tasti
 ng/
METHOD:PUBLISH
END:VEVENT
END:VCALENDAR