BEGIN:VCALENDAR
VERSION:2.0
PRODID:spatie/icalendar-generator
DESCRIPTION:Events from Anderson Farms
X-WR-CALDESC:Events from Anderson Farms
REFRESH-INTERVAL;VALUE=DURATION:PT1440M
X-PUBLISHED-TTL:PT1440M
BEGIN:VTIMEZONE
TZID:Etc/GMT+0
BEGIN:STANDARD
DTSTART:20240827T180000Z
TZOFFSETFROM:+0000
TZOFFSETTO:+0000
END:STANDARD
END:VTIMEZONE
BEGIN:VTIMEZONE
TZID:UTC
BEGIN:STANDARD
DTSTART:20250724T053948Z
TZOFFSETFROM:+0000
TZOFFSETTO:+0000
END:STANDARD
END:VTIMEZONE
BEGIN:VEVENT
UID:546-182
DTSTAMP:20260420T053948Z
SUMMARY:Live at The Village: with Jeff Liberty
LOCATION:The Village at Woodside 230 Village Green Boulevard  Aiken SC 2980
 3
ORGANIZER;CN=Summer:MAILTO:staylor@woodsidecommunities.com
DTSTART;TZID=Etc/GMT+0:20250524T180000
DTEND;TZID=Etc/GMT+0:20250524T200000
X-ALT-DESC;FMTTYPE=TEXT/HTML:In honor of Memorial Day Weekend\, The Village
  at Woodside invites you to join us for an evening of FREE live music by l
 ocal Blues Artist Jeff Liberty on Saturday\, May 24th\, from 6-8 PM. The V
 illage Café will be open late serving barbecue\, snacks\, gelato\, beer\,
  wine\, and coffee beverages. Click here for more&amp;hellip\;
CATEGORIES:Village Event
URL;VALUE=URI:https://www.andersonfarmsaiken.com/mc-events/live-at-the-vill
 age-with-jeff-liberty/
METHOD:PUBLISH
END:VEVENT
END:VCALENDAR