BEGIN:VCALENDAR
VERSION:2.0
PRODID:spatie/icalendar-generator
DESCRIPTION:Events from Anderson Farms
X-WR-CALDESC:Events from Anderson Farms
REFRESH-INTERVAL;VALUE=DURATION:PT1440M
X-PUBLISHED-TTL:PT1440M
BEGIN:VTIMEZONE
TZID:Etc/GMT+0
BEGIN:STANDARD
DTSTART:20240820T090000Z
TZOFFSETFROM:+0000
TZOFFSETTO:+0000
END:STANDARD
END:VTIMEZONE
BEGIN:VTIMEZONE
TZID:UTC
BEGIN:STANDARD
DTSTART:20250724T105802Z
TZOFFSETFROM:+0000
TZOFFSETTO:+0000
END:STANDARD
END:VTIMEZONE
BEGIN:VEVENT
UID:529-165
DTSTAMP:20260420T105802Z
SUMMARY:Woodside Trail Group Hike
LOCATION:
ORGANIZER;CN=Summer:MAILTO:staylor@woodsidecommunities.com
DTSTART;TZID=Etc/GMT+0:20250517T090000
DTEND;TZID=Etc/GMT+0:20250517T100000
X-ALT-DESC;FMTTYPE=TEXT/HTML:Join Peter Kleinhenz\, Executive Director of t
 he Aiken Land Conservancy alongside a group-led hike at the conservancy’
 s recently acquired Korn Tract. This property conserves 302 acres of intac
 t sandhills\, frontage along Pond Branch\, and a bluff that provides a swe
 eping view over eastern Aiken County. Click here to visit the Woodside Tra
 il Group's website for&amp;hellip\;
CATEGORIES:Woodside Event
URL;VALUE=URI:https://www.andersonfarmsaiken.com/mc-events/woodside-trail-g
 roup-hike-9/
METHOD:PUBLISH
END:VEVENT
END:VCALENDAR