BEGIN:VCALENDAR
VERSION:2.0
PRODID:spatie/icalendar-generator
DESCRIPTION:Events from Anderson Farms
X-WR-CALDESC:Events from Anderson Farms
REFRESH-INTERVAL;VALUE=DURATION:PT1440M
X-PUBLISHED-TTL:PT1440M
BEGIN:VTIMEZONE
TZID:Etc/GMT+0
BEGIN:STANDARD
DTSTART:20240406T143000Z
TZOFFSETFROM:+0000
TZOFFSETTO:+0000
END:STANDARD
END:VTIMEZONE
BEGIN:VTIMEZONE
TZID:UTC
BEGIN:STANDARD
DTSTART:20250724T144145Z
TZOFFSETFROM:+0000
TZOFFSETTO:+0000
END:STANDARD
END:VTIMEZONE
BEGIN:VEVENT
UID:306-121
DTSTAMP:20260420T144145Z
SUMMARY:First Day Hike at Aiken State Park
LOCATION:Aiken State Park 1145 State Park Road  Windsor SC 29856
ORGANIZER;CN=Summer:MAILTO:staylor@woodsidecommunities.com
DTSTART;TZID=Etc/GMT+0:20250101T143000
DTEND;TZID=Etc/GMT+0:20250101T153000
X-ALT-DESC;FMTTYPE=TEXT/HTML:Start the New Year with adventure! Join us for
  an exclusive guided hike in Compartment C of Aiken State Park—an area t
 ypically closed to the public. What to Bring: Water\, binoculars\, camera
 \, closed-toe shoes\, and weather-appropriate clothing. Pets are welcome b
 ut must be on a 6-ft leash! Free with Park Admission or Park Passport. Cli
 ck here&amp;hellip\;
CATEGORIES:Aiken Event
URL;VALUE=URI:https://www.andersonfarmsaiken.com/mc-events/first-day-hike-a
 t-aiken-state-park/
METHOD:PUBLISH
END:VEVENT
END:VCALENDAR