BEGIN:VCALENDAR
VERSION:2.0
PRODID:spatie/icalendar-generator
DESCRIPTION:Events from Anderson Farms
X-WR-CALDESC:Events from Anderson Farms
REFRESH-INTERVAL;VALUE=DURATION:PT1440M
X-PUBLISHED-TTL:PT1440M
BEGIN:VTIMEZONE
TZID:Etc/GMT+0
BEGIN:STANDARD
DTSTART:20240405T200000Z
TZOFFSETFROM:+0000
TZOFFSETTO:+0000
END:STANDARD
END:VTIMEZONE
BEGIN:VTIMEZONE
TZID:UTC
BEGIN:STANDARD
DTSTART:20250724T131717Z
TZOFFSETFROM:+0000
TZOFFSETTO:+0000
END:STANDARD
END:VTIMEZONE
BEGIN:VEVENT
UID:271-86
DTSTAMP:20260420T131717Z
SUMMARY:New Year's Eve at The Club
LOCATION:The Reserve Club at Woodside 3000 The Reserve Club Drive  Aiken SC
  29803
ORGANIZER;CN=Summer:MAILTO:staylor@woodsidecommunities.com
DTSTART;TZID=Etc/GMT+0:20241231T200000
DTEND;TZID=Etc/GMT+0:20241231T235900
X-ALT-DESC;FMTTYPE=TEXT/HTML:The countdown to 2025 is on! Celebrate the upc
 oming turn of a new day at The Reserve Club with a tapas and cocktail bar\
 , live music by \"Anybody's Guess\,\" and a balloon drop at midnight to ri
 ng in the new year! Click here for more information about this event or to
  register your party.
CATEGORIES:Reserve Club Event
URL;VALUE=URI:https://www.andersonfarmsaiken.com/mc-events/new-years-eve-at
 -the-club/
METHOD:PUBLISH
END:VEVENT
END:VCALENDAR