BEGIN:VCALENDAR
VERSION:2.0
PRODID:spatie/icalendar-generator
DESCRIPTION:Events from Anderson Farms
X-WR-CALDESC:Events from Anderson Farms
REFRESH-INTERVAL;VALUE=DURATION:PT1440M
X-PUBLISHED-TTL:PT1440M
BEGIN:VTIMEZONE
TZID:Etc/GMT+0
BEGIN:STANDARD
DTSTART:20230924T190000Z
TZOFFSETFROM:+0000
TZOFFSETTO:+0000
END:STANDARD
END:VTIMEZONE
BEGIN:VTIMEZONE
TZID:UTC
BEGIN:STANDARD
DTSTART:20250724T063630Z
TZOFFSETFROM:+0000
TZOFFSETTO:+0000
END:STANDARD
END:VTIMEZONE
BEGIN:VEVENT
UID:214-43
DTSTAMP:20260420T063630Z
SUMMARY:Joye In Aiken: Jazz Explosion Faculty Concert
LOCATION:USC Aiken Etherredge Center 340 Scholar Loop  Aiken SC 29801
ORGANIZER;CN=Summer:MAILTO:staylor@woodsidecommunities.com
DTSTART;TZID=Etc/GMT+0:20240620T190000
DTEND;TZID=Etc/GMT+0:20240620T200000
X-ALT-DESC;FMTTYPE=TEXT/HTML:Kick off your summer with an unforgettable nig
 ht of jazz at the Joye in Aiken Jazz Explosion! Celebrate the opening of o
 ur Summer Jazz Camp with a spectacular concert featuring five stellar Juil
 liard-trained faculty members. Enjoy an electrifying performance by world-
 class musicians\, guaranteed to be the most fun you can have this season. 
 Click here&amp;hellip\;
CATEGORIES:Aiken Event
URL;VALUE=URI:https://www.andersonfarmsaiken.com/mc-events/joye-in-aiken-ja
 zz-explosion-faculty-concert/
METHOD:PUBLISH
END:VEVENT
END:VCALENDAR