BEGIN:VCALENDAR
VERSION:2.0
PRODID:spatie/icalendar-generator
DESCRIPTION:Events from Anderson Farms
X-WR-CALDESC:Events from Anderson Farms
REFRESH-INTERVAL;VALUE=DURATION:PT1440M
X-PUBLISHED-TTL:PT1440M
BEGIN:VTIMEZONE
TZID:Etc/GMT+0
BEGIN:STANDARD
DTSTART:20230814T193000Z
TZOFFSETFROM:+0000
TZOFFSETTO:+0000
END:STANDARD
END:VTIMEZONE
BEGIN:VTIMEZONE
TZID:UTC
BEGIN:STANDARD
DTSTART:20250724T105905Z
TZOFFSETFROM:+0000
TZOFFSETTO:+0000
END:STANDARD
END:VTIMEZONE
BEGIN:VEVENT
UID:165-18
DTSTAMP:20260420T105905Z
SUMMARY:Into the Woods Musical
LOCATION:Aiken Community Theatre 126 Newberry St SW  Aiken SC 29801
ORGANIZER;CN=Summer:MAILTO:staylor@woodsidecommunities.com
DTSTART;TZID=Etc/GMT+0:20240510T193000
DTEND;TZID=Etc/GMT+0:20240518T203000
X-ALT-DESC;FMTTYPE=TEXT/HTML:Directed by Bradley Watts and featuring orches
 trations by Jonathan Tunik\, this captivating performance at the Aiken Com
 munity Theatre brings James Lapine's beloved story to life in a magical th
 eatrical experience you won't want to miss! Dates and times vary. Click he
 re for more information about this event! 
CATEGORIES:Aiken Event
URL;VALUE=URI:https://www.andersonfarmsaiken.com/mc-events/into-the-woods-m
 usical/
METHOD:PUBLISH
END:VEVENT
END:VCALENDAR