BEGIN:VCALENDAR
VERSION:2.0
PRODID:spatie/icalendar-generator
DESCRIPTION:Events from Anderson Farms
X-WR-CALDESC:Events from Anderson Farms
REFRESH-INTERVAL;VALUE=DURATION:PT1440M
X-PUBLISHED-TTL:PT1440M
BEGIN:VTIMEZONE
TZID:Etc/GMT+0
BEGIN:STANDARD
DTSTART:20250221T190000Z
TZOFFSETFROM:+0000
TZOFFSETTO:+0000
END:STANDARD
END:VTIMEZONE
BEGIN:VTIMEZONE
TZID:UTC
BEGIN:STANDARD
DTSTART:20250727T190237Z
TZOFFSETFROM:+0000
TZOFFSETTO:+0000
END:STANDARD
END:VTIMEZONE
BEGIN:VEVENT
UID:611-240
DTSTAMP:20260423T190237Z
SUMMARY:Cultural Series: Pirates of Penzance
LOCATION:The Etherredge Center 340 Scholar Loop  Aiken SC 29801
ORGANIZER;CN=Summer:MAILTO:staylor@woodsidecommunities.com
DTSTART;TZID=Etc/GMT+0:20251118T190000
DTEND;TZID=Etc/GMT+0:20251118T200000
X-ALT-DESC;FMTTYPE=TEXT/HTML:On the coast of Cornwall\, a band of tenderhea
 rted pirates celebrates the coming of age of Frederic\, who was mistakenly
  apprenticed to the pirates until his 21st birthday. Now\, Frederic has vo
 wed to devote his life to the extermination of piracy – until a ludicrou
 s leap year snag threatens to keep him apprenticed to the&amp;hellip\;
CATEGORIES:Aiken Event
URL;VALUE=URI:https://www.andersonfarmsaiken.com/mc-events/cultural-series-
 pirates-of-penzance/
METHOD:PUBLISH
END:VEVENT
END:VCALENDAR