BEGIN:VCALENDAR
VERSION:2.0
PRODID:spatie/icalendar-generator
DESCRIPTION:Events from Anderson Farms
X-WR-CALDESC:Events from Anderson Farms
REFRESH-INTERVAL;VALUE=DURATION:PT1440M
X-PUBLISHED-TTL:PT1440M
BEGIN:VTIMEZONE
TZID:Etc/GMT+0
BEGIN:STANDARD
DTSTART:20250309T183000Z
TZOFFSETFROM:+0000
TZOFFSETTO:+0000
END:STANDARD
END:VTIMEZONE
BEGIN:VTIMEZONE
TZID:UTC
BEGIN:STANDARD
DTSTART:20250728T203445Z
TZOFFSETFROM:+0000
TZOFFSETTO:+0000
END:STANDARD
END:VTIMEZONE
BEGIN:VEVENT
UID:603-232
DTSTAMP:20260424T203445Z
SUMMARY:Holiday Sip &amp;amp\; Shop
LOCATION:Cold Creek Nurseries 398 Hitchcock Parkway  Aiken SC 29801
ORGANIZER;CN=Summer:MAILTO:staylor@woodsidecommunities.com
DTSTART;TZID=Etc/GMT+0:20251204T183000
DTEND;TZID=Etc/GMT+0:20251204T203000
X-ALT-DESC;FMTTYPE=TEXT/HTML:Join us after hours at Cold Creek Nurseries fo
 r an enchanting evening filled with holiday cheer! Enjoy a delightful spre
 ad of seasonal food samples from the market\, sip on wine and refreshments
 \, and let the lively music set the festive mood. Capture the moment at a 
 photo station and get inspired at a holiday wreath&amp;hellip\;
CATEGORIES:Aiken Event
URL;VALUE=URI:https://www.andersonfarmsaiken.com/mc-events/holiday-sip-shop
 /
METHOD:PUBLISH
END:VEVENT
END:VCALENDAR