BEGIN:VCALENDAR
VERSION:2.0
PRODID:spatie/icalendar-generator
DESCRIPTION:Events from Anderson Farms
X-WR-CALDESC:Events from Anderson Farms
REFRESH-INTERVAL;VALUE=DURATION:PT1440M
X-PUBLISHED-TTL:PT1440M
BEGIN:VTIMEZONE
TZID:Etc/GMT+0
BEGIN:STANDARD
DTSTART:20250310T193000Z
TZOFFSETFROM:+0000
TZOFFSETTO:+0000
END:STANDARD
END:VTIMEZONE
BEGIN:VTIMEZONE
TZID:UTC
BEGIN:STANDARD
DTSTART:20250729T010554Z
TZOFFSETFROM:+0000
TZOFFSETTO:+0000
END:STANDARD
END:VTIMEZONE
BEGIN:VEVENT
UID:601-230
DTSTAMP:20260425T010554Z
SUMMARY:Aiken Community Theatre: The Best Christmas Pageant Ever
LOCATION:Aiken Community Theatre 126 Newberry St SW  Aiken SC 29801
ORGANIZER;CN=Summer:MAILTO:staylor@woodsidecommunities.com
DTSTART;TZID=Etc/GMT+0:20251205T193000
DTEND;TZID=Etc/GMT+0:20251205T213000
X-ALT-DESC;FMTTYPE=TEXT/HTML:Nobody is ready for the mayhem and surprises t
 hat ensue when six of the worst youngsters disrupt the town’s annual Chr
 istmas play. Don't miss the show! Click here for more information about th
 is event or to purchase tickets. Aiken Community Theatre (ACT) is a nonpro
 fit organization whose purpose is to entertain\, educate\, and enrich our&amp;
 hellip\;
CATEGORIES:Aiken Event
URL;VALUE=URI:https://www.andersonfarmsaiken.com/mc-events/aiken-community-
 theatre-the-best-christmas-pageant-ever/
METHOD:PUBLISH
END:VEVENT
END:VCALENDAR