BEGIN:VCALENDAR
VERSION:2.0
PRODID:spatie/icalendar-generator
DESCRIPTION:Events from Anderson Farms
X-WR-CALDESC:Events from Anderson Farms
REFRESH-INTERVAL;VALUE=DURATION:PT1440M
X-PUBLISHED-TTL:PT1440M
BEGIN:VTIMEZONE
TZID:Etc/GMT+0
BEGIN:STANDARD
DTSTART:20250312T150000Z
TZOFFSETFROM:+0000
TZOFFSETTO:+0000
END:STANDARD
END:VTIMEZONE
BEGIN:VTIMEZONE
TZID:UTC
BEGIN:STANDARD
DTSTART:20250729T041204Z
TZOFFSETFROM:+0000
TZOFFSETTO:+0000
END:STANDARD
END:VTIMEZONE
BEGIN:VEVENT
UID:598-227
DTSTAMP:20260425T041204Z
SUMMARY:Joye to the World: Holiday Concert
LOCATION:The Etherredge Center 340 Scholar Loop  Aiken SC 29801
ORGANIZER;CN=Summer:MAILTO:staylor@woodsidecommunities.com
DTSTART;TZID=Etc/GMT+0:20251207T150000
DTEND;TZID=Etc/GMT+0:20251207T163000
X-ALT-DESC;FMTTYPE=TEXT/HTML:Gather your friends and family and make this h
 oliday season unforgettable! Joye in Aiken returns for the annual Joye to 
 the World afternoon concert featuring the incredible Riley Mulherkar and F
 riends. Click here for more information about this event!
CATEGORIES:Aiken Event
URL;VALUE=URI:https://www.andersonfarmsaiken.com/mc-events/joye-to-the-worl
 d-holiday-concert-2/
METHOD:PUBLISH
END:VEVENT
END:VCALENDAR