BEGIN:VCALENDAR
VERSION:2.0
PRODID:spatie/icalendar-generator
DESCRIPTION:Events from Anderson Farms
X-WR-CALDESC:Events from Anderson Farms
REFRESH-INTERVAL;VALUE=DURATION:PT1440M
X-PUBLISHED-TTL:PT1440M
BEGIN:VTIMEZONE
TZID:Etc/GMT+0
BEGIN:STANDARD
DTSTART:20250114T090000Z
TZOFFSETFROM:+0000
TZOFFSETTO:+0000
END:STANDARD
END:VTIMEZONE
BEGIN:VTIMEZONE
TZID:UTC
BEGIN:STANDARD
DTSTART:20250725T093732Z
TZOFFSETFROM:+0000
TZOFFSETTO:+0000
END:STANDARD
END:VTIMEZONE
BEGIN:VEVENT
UID:585-215
DTSTAMP:20260421T093732Z
SUMMARY:Gaston Market Day
LOCATION:Gaston Livery Stable 1315 Richland Ave E  Aiken SC 29801
ORGANIZER;CN=Summer:MAILTO:staylor@woodsidecommunities.com
DTSTART;TZID=Etc/GMT+0:20251011T090000
DTEND;TZID=Etc/GMT+0:20251011T100000
X-ALT-DESC;FMTTYPE=TEXT/HTML:Experience the charm of Aiken’s historic Gas
 ton Livery Stable during Gaston Market Day. Browse artisan goods\, vintage
  treasures\, and sustainable products while enjoying live music and engagi
 ng living history exhibits. Click here for more information about this eve
 nt! 
CATEGORIES:Aiken Event
URL;VALUE=URI:https://www.andersonfarmsaiken.com/mc-events/gaston-market-da
 y/
METHOD:PUBLISH
END:VEVENT
END:VCALENDAR