BEGIN:VCALENDAR
VERSION:2.0
PRODID:spatie/icalendar-generator
DESCRIPTION:Events from Anderson Farms
X-WR-CALDESC:Events from Anderson Farms
REFRESH-INTERVAL;VALUE=DURATION:PT1440M
X-PUBLISHED-TTL:PT1440M
BEGIN:VTIMEZONE
TZID:Etc/GMT+0
BEGIN:STANDARD
DTSTART:20250225T080000Z
TZOFFSETFROM:+0000
TZOFFSETTO:+0000
END:STANDARD
END:VTIMEZONE
BEGIN:VTIMEZONE
TZID:UTC
BEGIN:STANDARD
DTSTART:20250727T221154Z
TZOFFSETFROM:+0000
TZOFFSETTO:+0000
END:STANDARD
END:VTIMEZONE
BEGIN:VEVENT
UID:584-214
DTSTAMP:20260423T221154Z
SUMMARY:Fall Steeplechase Championship
LOCATION:Aiken Steeplechase Racecourse 2020 Richland Avenue East  Aiken SC 
 29801
ORGANIZER;CN=Summer:MAILTO:staylor@woodsidecommunities.com
DTSTART;TZID=Etc/GMT+0:20251122T080000
DTEND;TZID=Etc/GMT+0:20251122T090000
X-ALT-DESC;FMTTYPE=TEXT/HTML:Kick off a fall tradition with the excitement 
 of the annual Fall Steeplechase Championship. Watch thrilling horse races\
 , enjoy lively tailgating\, and spend a crisp autumn day surrounded by fri
 ends\, family\, and festive fun. Click here for more information about thi
 s event! 
CATEGORIES:Aiken Event
URL;VALUE=URI:https://www.andersonfarmsaiken.com/mc-events/fall-steeplechas
 e-championship/
METHOD:PUBLISH
END:VEVENT
END:VCALENDAR