BEGIN:VCALENDAR
VERSION:2.0
PRODID:spatie/icalendar-generator
DESCRIPTION:Events from Anderson Farms
X-WR-CALDESC:Events from Anderson Farms
REFRESH-INTERVAL;VALUE=DURATION:PT1440M
X-PUBLISHED-TTL:PT1440M
BEGIN:VTIMEZONE
TZID:Etc/GMT+0
BEGIN:STANDARD
DTSTART:20241226T160000Z
TZOFFSETFROM:+0000
TZOFFSETTO:+0000
END:STANDARD
END:VTIMEZONE
BEGIN:VTIMEZONE
TZID:UTC
BEGIN:STANDARD
DTSTART:20250725T005900Z
TZOFFSETFROM:+0000
TZOFFSETTO:+0000
END:STANDARD
END:VTIMEZONE
BEGIN:VEVENT
UID:583-213
DTSTAMP:20260421T005900Z
SUMMARY:Bee Social with the Bee-Nevolent Bee Society
LOCATION:
ORGANIZER;CN=Summer:MAILTO:staylor@woodsidecommunities.com
DTSTART;TZID=Etc/GMT+0:20250922T160000
DTEND;TZID=Etc/GMT+0:20250922T170000
X-ALT-DESC;FMTTYPE=TEXT/HTML:The Bee-Nevolent Been Society invites you to m
 eet the Woodside Bees and share some lemonade and cookies! There will be s
 igns directing you to the Community Gardens off of Basswood Drive. Bring y
 our own lawn chair and stick around if you want to see nature's workers in
  action! Click here for more information and to&amp;hellip\;
CATEGORIES:Woodside Event
URL;VALUE=URI:https://www.andersonfarmsaiken.com/mc-events/bee-social-with-
 the-bee-nevolent-bee-society/
METHOD:PUBLISH
END:VEVENT
END:VCALENDAR