BEGIN:VCALENDAR
VERSION:2.0
PRODID:spatie/icalendar-generator
DESCRIPTION:Events from Anderson Farms
X-WR-CALDESC:Events from Anderson Farms
REFRESH-INTERVAL;VALUE=DURATION:PT1440M
X-PUBLISHED-TTL:PT1440M
BEGIN:VTIMEZONE
TZID:Etc/GMT+0
BEGIN:STANDARD
DTSTART:20250105T173000Z
TZOFFSETFROM:+0000
TZOFFSETTO:+0000
END:STANDARD
END:VTIMEZONE
BEGIN:VTIMEZONE
TZID:UTC
BEGIN:STANDARD
DTSTART:20250725T043700Z
TZOFFSETFROM:+0000
TZOFFSETTO:+0000
END:STANDARD
END:VTIMEZONE
BEGIN:VEVENT
UID:580-210
DTSTAMP:20260421T043700Z
SUMMARY:Mane &amp;amp\; Shell Oyster Roast and Low Country Boil Fundraiser
LOCATION:Aiken Equine Rescue 532 Glenwood Drive   Aiken SC 29803
ORGANIZER;CN=Summer:MAILTO:staylor@woodsidecommunities.com
DTSTART;TZID=Etc/GMT+0:20251002T173000
DTEND;TZID=Etc/GMT+0:20251002T210000
X-ALT-DESC;FMTTYPE=TEXT/HTML:Join us for the Aiken Equine Rescue Mane and S
 hell Oyster Roast Fundraiser—an unforgettable evening of live music by M
 P4\, all-you-can-eat oysters and low country boil\, plus beer\, wine\, and
  exciting auctions! This lively event is our biggest fundraiser of the yea
 r\, directly benefiting the horses at Equine Rescue of Aiken. Get your adv
 ance tickets&amp;hellip\;
CATEGORIES:Aiken Event
URL;VALUE=URI:https://www.andersonfarmsaiken.com/mc-events/mane-shell-oyste
 r-roast-and-low-country-boil-fundraiser/
METHOD:PUBLISH
END:VEVENT
END:VCALENDAR