BEGIN:VCALENDAR
VERSION:2.0
PRODID:spatie/icalendar-generator
DESCRIPTION:Events from Anderson Farms
X-WR-CALDESC:Events from Anderson Farms
REFRESH-INTERVAL;VALUE=DURATION:PT1440M
X-PUBLISHED-TTL:PT1440M
BEGIN:VTIMEZONE
TZID:Etc/GMT+0
BEGIN:STANDARD
DTSTART:20241126T130000Z
TZOFFSETFROM:+0000
TZOFFSETTO:+0000
END:STANDARD
END:VTIMEZONE
BEGIN:VTIMEZONE
TZID:UTC
BEGIN:STANDARD
DTSTART:20250724T132033Z
TZOFFSETFROM:+0000
TZOFFSETTO:+0000
END:STANDARD
END:VTIMEZONE
BEGIN:VEVENT
UID:572-202
DTSTAMP:20260420T132033Z
SUMMARY:Stable View Summer Bluegrass Festival
LOCATION:Stable View 117 Stable Drive  Aiken SC 29801
ORGANIZER;CN=Summer:MAILTO:staylor@woodsidecommunities.com
DTSTART;TZID=Etc/GMT+0:20250823T130000
DTEND;TZID=Etc/GMT+0:20250823T200000
X-ALT-DESC;FMTTYPE=TEXT/HTML:Bring a chair or blanket for your comfort\, si
 t back and relax or spread out on the grass\, and enjoy bluegrass music wi
 th three bands from Western North Carolina from 3 PM – 8 PM. Food will b
 e available for purchase from The Bistro at Stable View. Click here for mo
 re information about this event!
CATEGORIES:Aiken Event
URL;VALUE=URI:https://www.andersonfarmsaiken.com/mc-events/stable-view-summ
 er-bluegrass-festival/
METHOD:PUBLISH
END:VEVENT
END:VCALENDAR