BEGIN:VCALENDAR
VERSION:2.0
PRODID:spatie/icalendar-generator
DESCRIPTION:Events from Anderson Farms
X-WR-CALDESC:Events from Anderson Farms
REFRESH-INTERVAL;VALUE=DURATION:PT1440M
X-PUBLISHED-TTL:PT1440M
BEGIN:VTIMEZONE
TZID:Etc/GMT+0
BEGIN:STANDARD
DTSTART:20241118T120000Z
TZOFFSETFROM:+0000
TZOFFSETTO:+0000
END:STANDARD
END:VTIMEZONE
BEGIN:VTIMEZONE
TZID:UTC
BEGIN:STANDARD
DTSTART:20250724T091234Z
TZOFFSETFROM:+0000
TZOFFSETTO:+0000
END:STANDARD
END:VTIMEZONE
BEGIN:VEVENT
UID:571-201
DTSTAMP:20260420T091234Z
SUMMARY:Lunchbox Series
LOCATION:Millbrook Baptist Church 223 South Aiken Blvd SE  Aiken SC 29803
ORGANIZER;CN=Summer:MAILTO:staylor@woodsidecommunities.com
DTSTART;TZID=Etc/GMT+0:20250815T120000
DTEND;TZID=Etc/GMT+0:20250815T130000
X-ALT-DESC;FMTTYPE=TEXT/HTML:Join us for the next Lunchbox Gardeners Series
 \, where green thumbs and curious beginners alike can learn quick\, practi
 cal tips for growing better gardens. Click here for more information abou
 t this event! 
CATEGORIES:Aiken Event
URL;VALUE=URI:https://www.andersonfarmsaiken.com/mc-events/lunchbox-series/
METHOD:PUBLISH
END:VEVENT
END:VCALENDAR