BEGIN:VCALENDAR
VERSION:2.0
PRODID:spatie/icalendar-generator
DESCRIPTION:Events from Anderson Farms
X-WR-CALDESC:Events from Anderson Farms
REFRESH-INTERVAL;VALUE=DURATION:PT1440M
X-PUBLISHED-TTL:PT1440M
BEGIN:VTIMEZONE
TZID:Etc/GMT+0
BEGIN:STANDARD
DTSTART:20241117T173000Z
TZOFFSETFROM:+0000
TZOFFSETTO:+0000
END:STANDARD
END:VTIMEZONE
BEGIN:VTIMEZONE
TZID:UTC
BEGIN:STANDARD
DTSTART:20250724T075933Z
TZOFFSETFROM:+0000
TZOFFSETTO:+0000
END:STANDARD
END:VTIMEZONE
BEGIN:VEVENT
UID:570-200
DTSTAMP:20260420T075933Z
SUMMARY:French Classics Dinner Night
LOCATION:The Reserve Club at Woodside 3000 The Reserve Club Drive  Aiken SC
  29803
ORGANIZER;CN=Summer:MAILTO:staylor@woodsidecommunities.com
DTSTART;TZID=Etc/GMT+0:20250814T173000
DTEND;TZID=Etc/GMT+0:20250814T200000
X-ALT-DESC;FMTTYPE=TEXT/HTML:Members loved it\, and so did \"oui\"! Join us
  in the Main Dining Room to experience The Reserve Club's French Classics 
 Dinner on August 14th. Click here to reserve your table today or view the 
 featured menu.
CATEGORIES:Reserve Club Event
URL;VALUE=URI:https://www.andersonfarmsaiken.com/mc-events/french-classics-
 dinner-night/
METHOD:PUBLISH
END:VEVENT
END:VCALENDAR