BEGIN:VCALENDAR
VERSION:2.0
PRODID:spatie/icalendar-generator
DESCRIPTION:Events from Anderson Farms
X-WR-CALDESC:Events from Anderson Farms
REFRESH-INTERVAL;VALUE=DURATION:PT1440M
X-PUBLISHED-TTL:PT1440M
BEGIN:VTIMEZONE
TZID:Etc/GMT+0
BEGIN:STANDARD
DTSTART:20241230T180000Z
TZOFFSETFROM:+0000
TZOFFSETTO:+0000
END:STANDARD
END:VTIMEZONE
BEGIN:VTIMEZONE
TZID:UTC
BEGIN:STANDARD
DTSTART:20250725T032636Z
TZOFFSETFROM:+0000
TZOFFSETTO:+0000
END:STANDARD
END:VTIMEZONE
BEGIN:VEVENT
UID:565-195
DTSTAMP:20260421T032636Z
SUMMARY:Bluegrass\, Burgers\, &amp;amp\; Brews
LOCATION:The Village at Woodside 230 Village Green Boulevard  Aiken SC 2980
 3
ORGANIZER;CN=Summer:MAILTO:staylor@woodsidecommunities.com
DTSTART;TZID=Etc/GMT+0:20250926T180000
DTEND;TZID=Etc/GMT+0:20250926T200000
X-ALT-DESC;FMTTYPE=TEXT/HTML:Join us for another free evening of live music
  by local bluegrass artists\, Johnny and Darlene! Save your appetite becau
 se The Village Cafê will be serving Burgers\, Brews\, Wine\, Gelato\, &amp;am
 p\; Coffee Beverages. Grab a friend and head on down to The Village for so
 me good old-fashioned fun! Click here for more information about this&amp;hell
 ip\;
CATEGORIES:Village Event
URL;VALUE=URI:https://www.andersonfarmsaiken.com/mc-events/bluegrass-burger
 s-brews-2/
METHOD:PUBLISH
END:VEVENT
END:VCALENDAR