BEGIN:VCALENDAR
VERSION:2.0
PRODID:spatie/icalendar-generator
DESCRIPTION:Events from Anderson Farms
X-WR-CALDESC:Events from Anderson Farms
REFRESH-INTERVAL;VALUE=DURATION:PT1440M
X-PUBLISHED-TTL:PT1440M
BEGIN:VTIMEZONE
TZID:Etc/GMT+0
BEGIN:STANDARD
DTSTART:20241215T180000Z
TZOFFSETFROM:+0000
TZOFFSETTO:+0000
END:STANDARD
END:VTIMEZONE
BEGIN:VTIMEZONE
TZID:UTC
BEGIN:STANDARD
DTSTART:20250724T205937Z
TZOFFSETFROM:+0000
TZOFFSETTO:+0000
END:STANDARD
END:VTIMEZONE
BEGIN:VEVENT
UID:559-194
DTSTAMP:20260420T205937Z
SUMMARY:Fall Bocce Ball League
LOCATION:The Village at Woodside 230 Village Green Boulevard  Aiken SC 2980
 3
ORGANIZER;CN=Summer:MAILTO:staylor@woodsidecommunities.com
RRULE:FREQ=WEEKLY;UNTIL=20251023T000000Z
DTSTART;TZID=Etc/GMT+0:20250911T180000
DTEND;TZID=Etc/GMT+0:20250911T190000
X-ALT-DESC;FMTTYPE=TEXT/HTML:Grab your friends and join us every Thursday a
 t 6:00pm at the Village at Woodside West Pavillion/ Bocce Ball Courts\, fr
 om September 11th - October 16th\, for our Bocce Ball Fall League. End of 
 season tournament will take place on October 16th! $40 registration fee pe
 r team\, all fees go towards the end of season&amp;hellip\;
CATEGORIES:Village Event
URL;VALUE=URI:https://www.andersonfarmsaiken.com/mc-events/fall-bocce-ball-
 league-2/?mc_id=559
METHOD:PUBLISH
END:VEVENT
END:VCALENDAR