BEGIN:VCALENDAR
VERSION:2.0
PRODID:spatie/icalendar-generator
DESCRIPTION:Events from Anderson Farms
X-WR-CALDESC:Events from Anderson Farms
REFRESH-INTERVAL;VALUE=DURATION:PT1440M
X-PUBLISHED-TTL:PT1440M
BEGIN:VTIMEZONE
TZID:Etc/GMT+0
BEGIN:STANDARD
DTSTART:20241007T190000Z
TZOFFSETFROM:+0000
TZOFFSETTO:+0000
END:STANDARD
END:VTIMEZONE
BEGIN:VTIMEZONE
TZID:UTC
BEGIN:STANDARD
DTSTART:20250724T035452Z
TZOFFSETFROM:+0000
TZOFFSETTO:+0000
END:STANDARD
END:VTIMEZONE
BEGIN:VEVENT
UID:557-192
DTSTAMP:20260420T035452Z
SUMMARY:July 4th Celebration: Presented by Xfinity
LOCATION:The Village at Woodside 230 Village Green Boulevard  Aiken SC 2980
 3
ORGANIZER;CN=Summer:MAILTO:staylor@woodsidecommunities.com
DTSTART;TZID=Etc/GMT+0:20250704T190000
DTEND;TZID=Etc/GMT+0:20250704T220000
X-ALT-DESC;FMTTYPE=TEXT/HTML:Join us at The Village at Woodside on Friday\,
  July 4th\, from 7 PM to 10 PM\, for a free community event sponsored by X
 fininy featuring live music by Preston &amp;amp\; Weston! Lobster Dog\, Uproot
 ed Vegan\, The Skinny Taco\, and Sunset Slush will have their food trucks 
 on property and the Village Café will be&amp;hellip\;
CATEGORIES:Village Event
URL;VALUE=URI:https://www.andersonfarmsaiken.com/mc-events/july-4th-celebra
 tion-presented-by-xfinity/
METHOD:PUBLISH
END:VEVENT
END:VCALENDAR