BEGIN:VCALENDAR
VERSION:2.0
PRODID:spatie/icalendar-generator
DESCRIPTION:Events from Anderson Farms
X-WR-CALDESC:Events from Anderson Farms
REFRESH-INTERVAL;VALUE=DURATION:PT1440M
X-PUBLISHED-TTL:PT1440M
BEGIN:VTIMEZONE
TZID:Etc/GMT+0
BEGIN:STANDARD
DTSTART:20241015T170000Z
TZOFFSETFROM:+0000
TZOFFSETTO:+0000
END:STANDARD
END:VTIMEZONE
BEGIN:VTIMEZONE
TZID:UTC
BEGIN:STANDARD
DTSTART:20250724T050525Z
TZOFFSETFROM:+0000
TZOFFSETTO:+0000
END:STANDARD
END:VTIMEZONE
BEGIN:VEVENT
UID:556-191
DTSTAMP:20260420T050525Z
SUMMARY:Cocktail Hour: Aiken Equine Rescue
LOCATION:Community Barn 4015 Trigger Mill Court  Aiken SC 29803
ORGANIZER;CN=Summer:MAILTO:staylor@woodsidecommunities.com
DTSTART;TZID=Etc/GMT+0:20250712T170000
DTEND;TZID=Etc/GMT+0:20250712T190000
X-ALT-DESC;FMTTYPE=TEXT/HTML:Join us for an evening Cocktail Hour in collab
 oration with the Aiken Equine Rescue! Enjoy wine\, beer\, &amp;amp\; light sna
 cks while learning about the AER’s newest outreach programs\, Grief to G
 race &amp;amp\; Horses Healing Hearts. RSVP for your party by emailing bkerley
 @woodsidecommunities.com by July 9th!
CATEGORIES:Anderson Farms Event
URL;VALUE=URI:https://www.andersonfarmsaiken.com/mc-events/cocktail-hour-ai
 ken-equine-rescue/
METHOD:PUBLISH
END:VEVENT
END:VCALENDAR