BEGIN:VCALENDAR
VERSION:2.0
PRODID:spatie/icalendar-generator
DESCRIPTION:Events from Anderson Farms
X-WR-CALDESC:Events from Anderson Farms
REFRESH-INTERVAL;VALUE=DURATION:PT1440M
X-PUBLISHED-TTL:PT1440M
BEGIN:VTIMEZONE
TZID:Etc/GMT+0
BEGIN:STANDARD
DTSTART:20240814T113000Z
TZOFFSETFROM:+0000
TZOFFSETTO:+0000
END:STANDARD
END:VTIMEZONE
BEGIN:VTIMEZONE
TZID:UTC
BEGIN:STANDARD
DTSTART:20250724T133732Z
TZOFFSETFROM:+0000
TZOFFSETTO:+0000
END:STANDARD
END:VTIMEZONE
BEGIN:VEVENT
UID:554-189
DTSTAMP:20260420T133732Z
SUMMARY:Mother's Day Brunch
LOCATION:The Reserve Club at Woodside 3000 The Reserve Club Drive  Aiken SC
  29803
ORGANIZER;CN=Summer:MAILTO:staylor@woodsidecommunities.com
DTSTART;TZID=Etc/GMT+0:20250511T113000
DTEND;TZID=Etc/GMT+0:20250511T133000
X-ALT-DESC;FMTTYPE=TEXT/HTML:Celebrate Mother’s Day in style at The Reser
 ve Club’s annual Mother’s Day Brunch—an elegant tradition featuring 
 chef-curated dishes\, decadent desserts\, and a warm\, welcoming atmospher
 e. Treat the mothers in your life to a relaxed morning surrounded by beaut
 y\, flavor\, and family. Click here for more information about this event!
CATEGORIES:Reserve Club Event
URL;VALUE=URI:https://www.andersonfarmsaiken.com/mc-events/mothers-day-brun
 ch-2/
METHOD:PUBLISH
END:VEVENT
END:VCALENDAR