BEGIN:VCALENDAR
VERSION:2.0
PRODID:spatie/icalendar-generator
DESCRIPTION:Events from Anderson Farms
X-WR-CALDESC:Events from Anderson Farms
REFRESH-INTERVAL;VALUE=DURATION:PT1440M
X-PUBLISHED-TTL:PT1440M
BEGIN:VTIMEZONE
TZID:Etc/GMT+0
BEGIN:STANDARD
DTSTART:20240909T173000Z
TZOFFSETFROM:+0000
TZOFFSETTO:+0000
END:STANDARD
END:VTIMEZONE
BEGIN:VTIMEZONE
TZID:UTC
BEGIN:STANDARD
DTSTART:20250724T001433Z
TZOFFSETFROM:+0000
TZOFFSETTO:+0000
END:STANDARD
END:VTIMEZONE
BEGIN:VEVENT
UID:553-188
DTSTAMP:20260420T001433Z
SUMMARY:Pub Club Luau
LOCATION:The Reserve Club at Woodside 3000 The Reserve Club Drive  Aiken SC
  29803
ORGANIZER;CN=Summer:MAILTO:staylor@woodsidecommunities.com
DTSTART;TZID=Etc/GMT+0:20250606T173000
DTEND;TZID=Etc/GMT+0:20250606T183000
X-ALT-DESC;FMTTYPE=TEXT/HTML:Get ready to say aloha to summer at The Reserv
 e Club’s annual Pub Club Luau! Enjoy tropical cocktails\, island-inspire
 d bites\, live music\, and plenty of laid-back fun with friends and neighb
 ors. Hawaiian shirts encouraged — good vibes guaranteed. Click here for 
 more information about this event!
CATEGORIES:Reserve Club Event
URL;VALUE=URI:https://www.andersonfarmsaiken.com/mc-events/pub-club-luau-2/
METHOD:PUBLISH
END:VEVENT
END:VCALENDAR