BEGIN:VCALENDAR
VERSION:2.0
PRODID:spatie/icalendar-generator
DESCRIPTION:Events from Anderson Farms
X-WR-CALDESC:Events from Anderson Farms
REFRESH-INTERVAL;VALUE=DURATION:PT1440M
X-PUBLISHED-TTL:PT1440M
BEGIN:VTIMEZONE
TZID:Etc/GMT+0
BEGIN:STANDARD
DTSTART:20240827T100000Z
TZOFFSETFROM:+0000
TZOFFSETTO:+0000
END:STANDARD
END:VTIMEZONE
BEGIN:VTIMEZONE
TZID:UTC
BEGIN:STANDARD
DTSTART:20250724T053917Z
TZOFFSETFROM:+0000
TZOFFSETTO:+0000
END:STANDARD
END:VTIMEZONE
BEGIN:VEVENT
UID:551-186
DTSTAMP:20260420T053917Z
SUMMARY:Aiken Memorial Day Parade
LOCATION:Downtown Aiken Downtown Aiken  Aiken SC 29801
ORGANIZER;CN=Summer:MAILTO:staylor@woodsidecommunities.com
DTSTART;TZID=Etc/GMT+0:20250524T100000
DTEND;TZID=Etc/GMT+0:20250524T110000
X-ALT-DESC;FMTTYPE=TEXT/HTML:Join the Aiken Memorial Day Parade and honor t
 hose who gave the ultimate sacrifice! Walk alongside festive automobiles\,
  floats\, and marching band displays to show your gratitude for all our fa
 llen and serving veterans – don't forget to wear your best red\, white\,
  &amp;amp\; blue! Click here for more information about this event. 
CATEGORIES:Aiken Event
URL;VALUE=URI:https://www.andersonfarmsaiken.com/mc-events/aiken-memorial-d
 ay-parade/
METHOD:PUBLISH
END:VEVENT
END:VCALENDAR