BEGIN:VCALENDAR
VERSION:2.0
PRODID:spatie/icalendar-generator
DESCRIPTION:Events from Anderson Farms
X-WR-CALDESC:Events from Anderson Farms
REFRESH-INTERVAL;VALUE=DURATION:PT1440M
X-PUBLISHED-TTL:PT1440M
BEGIN:VTIMEZONE
TZID:Etc/GMT+0
BEGIN:STANDARD
DTSTART:20240917T170000Z
TZOFFSETFROM:+0000
TZOFFSETTO:+0000
END:STANDARD
END:VTIMEZONE
BEGIN:VTIMEZONE
TZID:UTC
BEGIN:STANDARD
DTSTART:20250724T001045Z
TZOFFSETFROM:+0000
TZOFFSETTO:+0000
END:STANDARD
END:VTIMEZONE
BEGIN:VEVENT
UID:549-185
DTSTAMP:20260420T001045Z
SUMMARY:Dog Days of Summer Fundraiser
LOCATION:The Village Café 110 Coach Light Way  Aiken SC 29803
ORGANIZER;CN=Summer:MAILTO:staylor@woodsidecommunities.com
DTSTART;TZID=Etc/GMT+0:20250614T170000
DTEND;TZID=Etc/GMT+0:20250614T190000
X-ALT-DESC;FMTTYPE=TEXT/HTML:Get your Summer started off right and join us 
 in The Village at Woodside for a fabulous fundraising evening in support o
 f Friends of the Animal Shelter (FOTAS). There will be a silent auction wi
 th 100% of the proceeds benefitting FOTAS\, a donation drive\, and adoptio
 n event! In addition\, there will be FREE live music&amp;hellip\;
CATEGORIES:Village Event
URL;VALUE=URI:https://www.andersonfarmsaiken.com/mc-events/dog-days-of-summ
 er-fundraiser/
METHOD:PUBLISH
END:VEVENT
END:VCALENDAR