BEGIN:VCALENDAR
VERSION:2.0
PRODID:spatie/icalendar-generator
DESCRIPTION:Events from Anderson Farms
X-WR-CALDESC:Events from Anderson Farms
REFRESH-INTERVAL;VALUE=DURATION:PT1440M
X-PUBLISHED-TTL:PT1440M
BEGIN:VTIMEZONE
TZID:Etc/GMT+0
BEGIN:STANDARD
DTSTART:20240822T180000Z
TZOFFSETFROM:+0000
TZOFFSETTO:+0000
END:STANDARD
END:VTIMEZONE
BEGIN:VTIMEZONE
TZID:UTC
BEGIN:STANDARD
DTSTART:20250724T081616Z
TZOFFSETFROM:+0000
TZOFFSETTO:+0000
END:STANDARD
END:VTIMEZONE
BEGIN:VEVENT
UID:545-181
DTSTAMP:20260420T081616Z
SUMMARY:Celebrity Waiter Night 2025
LOCATION:The Village Café 110 Coach Light Way  Aiken SC 29803
ORGANIZER;CN=Summer:MAILTO:staylor@woodsidecommunities.com
DTSTART;TZID=Etc/GMT+0:20250519T180000
DTEND;TZID=Etc/GMT+0:20250519T200000
X-ALT-DESC;FMTTYPE=TEXT/HTML:Join us at The Village Café for Celebrity Wai
 ter Night on Monday\, May 19th to support The Children's Place! The menu w
 ill feature a Gourmet Mashed Potato Bar\, Pulled Pork\, Chicken Sliders\, 
 Tomato Pies\, and Strawberry Gelato. Tickets are only $30 per person and c
 an be purchased online via our menu at Special Events. Click&amp;hellip\;
CATEGORIES:Village Event
URL;VALUE=URI:https://www.andersonfarmsaiken.com/mc-events/celebrity-waiter
 -night-2025/
METHOD:PUBLISH
END:VEVENT
END:VCALENDAR