BEGIN:VCALENDAR
VERSION:2.0
PRODID:spatie/icalendar-generator
DESCRIPTION:Events from Anderson Farms
X-WR-CALDESC:Events from Anderson Farms
REFRESH-INTERVAL;VALUE=DURATION:PT1440M
X-PUBLISHED-TTL:PT1440M
BEGIN:VTIMEZONE
TZID:Etc/GMT+0
BEGIN:STANDARD
DTSTART:20240922T193000Z
TZOFFSETFROM:+0000
TZOFFSETTO:+0000
END:STANDARD
END:VTIMEZONE
BEGIN:VTIMEZONE
TZID:UTC
BEGIN:STANDARD
DTSTART:20250724T013121Z
TZOFFSETFROM:+0000
TZOFFSETTO:+0000
END:STANDARD
END:VTIMEZONE
BEGIN:VEVENT
UID:438-141
DTSTAMP:20260420T013121Z
SUMMARY:Joye in Aiken: Jazz Explosion Faculty Concert
LOCATION:USC Aiken Etherredge Center 340 Scholar Loop  Aiken SC 29801
ORGANIZER;CN=Summer:MAILTO:staylor@woodsidecommunities.com
DTSTART;TZID=Etc/GMT+0:20250619T193000
DTEND;TZID=Etc/GMT+0:20250619T203000
X-ALT-DESC;FMTTYPE=TEXT/HTML:Aiken's favorite Jazz Camp faculty returns for
  yet another spectacular camp-opening concert! Taking the Etherredge Cente
 r stage for the fourth edition of this popular event\, our Julliard-traine
 d faculty members (including Artistic Director Riley Mulherkar\, beloved p
 ianist Mathis Picard\, and GRAMMY- and Tony-winning drummer Bryan Carter) 
 present an engaging new program of beloved standards and original&amp;hellip\;
CATEGORIES:Aiken Event
URL;VALUE=URI:https://www.andersonfarmsaiken.com/mc-events/joye-in-aiken-ja
 zz-explosion-faculty-concert-2/
METHOD:PUBLISH
END:VEVENT
END:VCALENDAR