BEGIN:VCALENDAR
VERSION:2.0
PRODID:spatie/icalendar-generator
DESCRIPTION:Events from Anderson Farms
X-WR-CALDESC:Events from Anderson Farms
REFRESH-INTERVAL;VALUE=DURATION:PT1440M
X-PUBLISHED-TTL:PT1440M
BEGIN:VTIMEZONE
TZID:Etc/GMT+0
BEGIN:STANDARD
DTSTART:20240825T180000Z
TZOFFSETFROM:+0000
TZOFFSETTO:+0000
END:STANDARD
END:VTIMEZONE
BEGIN:VTIMEZONE
TZID:UTC
BEGIN:STANDARD
DTSTART:20250724T065749Z
TZOFFSETFROM:+0000
TZOFFSETTO:+0000
END:STANDARD
END:VTIMEZONE
BEGIN:VEVENT
UID:437-140
DTSTAMP:20260420T065749Z
SUMMARY:Bocce Ball Spring League
LOCATION:The Village at Woodside 230 Village Green Boulevard  Aiken SC 2980
 3
ORGANIZER;CN=Summer:MAILTO:staylor@woodsidecommunities.com
RRULE:FREQ=WEEKLY;UNTIL=20250529T000000Z
DTSTART;TZID=Etc/GMT+0:20250522T180000
DTEND;TZID=Etc/GMT+0:20250522T190000
X-ALT-DESC;FMTTYPE=TEXT/HTML:Grab your friends and join us every Thursday a
 t 6:00 PM at The Village's West Pavillion Bocce Ball Courts from April 17t
 h to May 22nd for our Bocce Ball Spring League. The end-of-season tourname
 nt will take place on May 22nd! $40 registration fee per team\; all fees g
 o towards the end-of-season Tournament prize pot. Please&amp;hellip\;
CATEGORIES:Village Event
URL;VALUE=URI:https://www.andersonfarmsaiken.com/mc-events/bocce-ball-sprin
 g-league-2/?mc_id=437
METHOD:PUBLISH
END:VEVENT
END:VCALENDAR