BEGIN:VCALENDAR
VERSION:2.0
PRODID:spatie/icalendar-generator
DESCRIPTION:Events from Anderson Farms
X-WR-CALDESC:Events from Anderson Farms
REFRESH-INTERVAL;VALUE=DURATION:PT1440M
X-PUBLISHED-TTL:PT1440M
BEGIN:VTIMEZONE
TZID:Etc/GMT+0
BEGIN:STANDARD
DTSTART:20240409T180000Z
TZOFFSETFROM:+0000
TZOFFSETTO:+0000
END:STANDARD
END:VTIMEZONE
BEGIN:VTIMEZONE
TZID:UTC
BEGIN:STANDARD
DTSTART:20250724T160748Z
TZOFFSETFROM:+0000
TZOFFSETTO:+0000
END:STANDARD
END:VTIMEZONE
BEGIN:VEVENT
UID:308-123
DTSTAMP:20260420T160748Z
SUMMARY:Benefit Square Dance
LOCATION:First Presbyterian Church 224 Barnwell Street  Aiken SC 29801
ORGANIZER;CN=Summer:MAILTO:staylor@woodsidecommunities.com
DTSTART;TZID=Etc/GMT+0:20250104T180000
DTEND;TZID=Etc/GMT+0:20250104T203000
X-ALT-DESC;FMTTYPE=TEXT/HTML:Kick up your heels for a cause supporting Wes
 tern NC hurricane recovery! Don’t miss this lively evening of music\, da
 ncing\, and community spirit—all for a great cause. Click here for more 
 information about this event!
CATEGORIES:Aiken Event
URL;VALUE=URI:https://www.andersonfarmsaiken.com/mc-events/benefit-square-d
 ance/
METHOD:PUBLISH
END:VEVENT
END:VCALENDAR