BEGIN:VCALENDAR
VERSION:2.0
PRODID:spatie/icalendar-generator
DESCRIPTION:Events from Anderson Farms
X-WR-CALDESC:Events from Anderson Farms
REFRESH-INTERVAL;VALUE=DURATION:PT1440M
X-PUBLISHED-TTL:PT1440M
BEGIN:VTIMEZONE
TZID:Etc/GMT+0
BEGIN:STANDARD
DTSTART:20240122T173000Z
TZOFFSETFROM:+0000
TZOFFSETTO:+0000
END:STANDARD
END:VTIMEZONE
BEGIN:VTIMEZONE
TZID:UTC
BEGIN:STANDARD
DTSTART:20250725T021110Z
TZOFFSETFROM:+0000
TZOFFSETTO:+0000
END:STANDARD
END:VTIMEZONE
BEGIN:VEVENT
UID:256-72
DTSTAMP:20260421T021110Z
SUMMARY:Howl O'Ween Celebration
LOCATION:The Village at Woodside 230 Village Green Boulevard  Aiken SC 2980
 3
ORGANIZER;CN=Summer:MAILTO:staylor@woodsidecommunities.com
DTSTART;TZID=Etc/GMT+0:20241018T173000
DTEND;TZID=Etc/GMT+0:20241018T193000
X-ALT-DESC;FMTTYPE=TEXT/HTML:Join us for a Doggone good time at our annual 
 Howl-O-Ween celebration! Bring your four-legged best friend and dress them
  up in your most creative costumes for a chance to win the grand prize. En
 joy refreshments\, special Pup-Cups\, and snacks from The Village Café wh
 ile you listen to The Lost Dog Band and shop with&amp;hellip\;
CATEGORIES:Village Event
URL;VALUE=URI:https://www.andersonfarmsaiken.com/mc-events/howl-oween-celeb
 ration/
METHOD:PUBLISH
END:VEVENT
END:VCALENDAR