BEGIN:VCALENDAR
VERSION:2.0
PRODID:spatie/icalendar-generator
DESCRIPTION:Events from Anderson Farms
X-WR-CALDESC:Events from Anderson Farms
REFRESH-INTERVAL;VALUE=DURATION:PT1440M
X-PUBLISHED-TTL:PT1440M
BEGIN:VTIMEZONE
TZID:Etc/GMT+0
BEGIN:STANDARD
DTSTART:20240101T100000Z
TZOFFSETFROM:+0000
TZOFFSETTO:+0000
END:STANDARD
END:VTIMEZONE
BEGIN:VTIMEZONE
TZID:UTC
BEGIN:STANDARD
DTSTART:20250724T192300Z
TZOFFSETFROM:+0000
TZOFFSETTO:+0000
END:STANDARD
END:VTIMEZONE
BEGIN:VEVENT
UID:255-71
DTSTAMP:20260420T192300Z
SUMMARY:Butterfly Monarchy Club Meeting
LOCATION:St John\\'s United Methodist Church 104 Newberry St NW  Aiken SC 2
 9801
ORGANIZER;CN=Summer:MAILTO:staylor@woodsidecommunities.com
DTSTART;TZID=Etc/GMT+0:20240927T100000
DTEND;TZID=Etc/GMT+0:20240927T110000
X-ALT-DESC;FMTTYPE=TEXT/HTML:Don’t miss this opportunity to connect with 
 nature and expand your knowledge at the Butterfly Monarchy's next club mee
 ting! Pat Garrett\, a seasoned backyard naturalist with a passion for rais
 ing Monarchs and Swallowtails\, will join us as our guest speaker. She wil
 l share her experiences and insights with the Cecropia Moth\, the largest 
 native moth&amp;hellip\;
CATEGORIES:Woodside Event
URL;VALUE=URI:https://www.andersonfarmsaiken.com/mc-events/butterfly-monarc
 hy-club-meeting-3/
METHOD:PUBLISH
END:VEVENT
END:VCALENDAR