BEGIN:VCALENDAR
VERSION:2.0
PRODID:spatie/icalendar-generator
DESCRIPTION:Events from Anderson Farms
X-WR-CALDESC:Events from Anderson Farms
REFRESH-INTERVAL;VALUE=DURATION:PT1440M
X-PUBLISHED-TTL:PT1440M
BEGIN:VTIMEZONE
TZID:Etc/GMT+0
BEGIN:STANDARD
DTSTART:20231224T090000Z
TZOFFSETFROM:+0000
TZOFFSETTO:+0000
END:STANDARD
END:VTIMEZONE
BEGIN:VTIMEZONE
TZID:UTC
BEGIN:STANDARD
DTSTART:20250724T184308Z
TZOFFSETFROM:+0000
TZOFFSETTO:+0000
END:STANDARD
END:VTIMEZONE
BEGIN:VEVENT
UID:226-55
DTSTAMP:20260420T184308Z
SUMMARY:EQUUS Film and Arts Fest
LOCATION:Aiken Equine Rescue 532 Glenwood Drive   Aiken SC 29803
ORGANIZER;CN=Summer:MAILTO:staylor@woodsidecommunities.com
DTSTART;TZID=Etc/GMT+0:20240919T090000
DTEND;TZID=Etc/GMT+0:20240921T200000
X-ALT-DESC;FMTTYPE=TEXT/HTML:Mingle with Aiken’s thriving equestrian scen
 e and journey through a 3-day celebration of inspiring films\, arts\, and
  training materials showcasing a wide range of topics including equestrian
 -assisted therapy\, youth programs\, competitive events\, correctional fac
 ilities\, and more! Click here for more information about this event. 
CATEGORIES:Aiken Event
URL;VALUE=URI:https://www.andersonfarmsaiken.com/mc-events/equus-film-and-a
 rts-fest/
METHOD:PUBLISH
END:VEVENT
END:VCALENDAR