BEGIN:VCALENDAR
VERSION:2.0
PRODID:spatie/icalendar-generator
DESCRIPTION:Events from Anderson Farms
X-WR-CALDESC:Events from Anderson Farms
REFRESH-INTERVAL;VALUE=DURATION:PT1440M
X-PUBLISHED-TTL:PT1440M
BEGIN:VTIMEZONE
TZID:Etc/GMT+0
BEGIN:STANDARD
DTSTART:20231106T100000Z
TZOFFSETFROM:+0000
TZOFFSETTO:+0000
END:STANDARD
END:VTIMEZONE
BEGIN:VTIMEZONE
TZID:UTC
BEGIN:STANDARD
DTSTART:20250724T184308Z
TZOFFSETFROM:+0000
TZOFFSETTO:+0000
END:STANDARD
END:VTIMEZONE
BEGIN:VEVENT
UID:221-50
DTSTAMP:20260420T184308Z
SUMMARY:Hopelands Gardens &amp;amp\; Rye Patch History Walk
LOCATION:Hopelands Gardens 135 Dupree Place  Aiken SC 29801
ORGANIZER;CN=Summer:MAILTO:staylor@woodsidecommunities.com
DTSTART;TZID=Etc/GMT+0:20240802T100000
DTEND;TZID=Etc/GMT+0:20240802T110000
X-ALT-DESC;FMTTYPE=TEXT/HTML:Join local historian Allan Riddick for a leisu
 rely stroll through the preserved botanical gardens and serpentine walls o
 f Hopelands Gardens while learning about the surrounding properties\, reno
 vated architecture\, and accounts of previous owners! Click here for more 
 information about this event. 
CATEGORIES:Aiken Event
URL;VALUE=URI:https://www.andersonfarmsaiken.com/mc-events/hopelands-garden
 s-rye-patch-history-walk/
METHOD:PUBLISH
END:VEVENT
END:VCALENDAR