BEGIN:VCALENDAR
VERSION:2.0
PRODID:spatie/icalendar-generator
DESCRIPTION:Events from Anderson Farms
X-WR-CALDESC:Events from Anderson Farms
REFRESH-INTERVAL;VALUE=DURATION:PT1440M
X-PUBLISHED-TTL:PT1440M
BEGIN:VTIMEZONE
TZID:Etc/GMT+0
BEGIN:STANDARD
DTSTART:20230923T183000Z
TZOFFSETFROM:+0000
TZOFFSETTO:+0000
END:STANDARD
END:VTIMEZONE
BEGIN:VTIMEZONE
TZID:UTC
BEGIN:STANDARD
DTSTART:20250724T080609Z
TZOFFSETFROM:+0000
TZOFFSETTO:+0000
END:STANDARD
END:VTIMEZONE
BEGIN:VEVENT
UID:212-41
DTSTAMP:20260420T080609Z
SUMMARY:Woodside Equestrian Group Meeting
LOCATION:The Reserve Club at Woodside 3000 The Reserve Club Drive  Aiken SC
  29803
ORGANIZER;CN=Summer:MAILTO:staylor@woodsidecommunities.com
DTSTART;TZID=Etc/GMT+0:20240619T183000
DTEND;TZID=Etc/GMT+0:20240619T193000
X-ALT-DESC;FMTTYPE=TEXT/HTML:Join the Woodside Equestrian Social Group to t
 est your knowledge with a round of EquiTrivia! Click here for more informa
 tion about this event and how to join on the Club's Social Calendar.
CATEGORIES:Woodside Event
URL;VALUE=URI:https://www.andersonfarmsaiken.com/mc-events/woodside-equestr
 ian-group-meeting-2/
METHOD:PUBLISH
END:VEVENT
END:VCALENDAR