BEGIN:VCALENDAR
VERSION:2.0
PRODID:spatie/icalendar-generator
DESCRIPTION:Events from Anderson Farms
X-WR-CALDESC:Events from Anderson Farms
REFRESH-INTERVAL;VALUE=DURATION:PT1440M
X-PUBLISHED-TTL:PT1440M
BEGIN:VTIMEZONE
TZID:Etc/GMT+0
BEGIN:STANDARD
DTSTART:20240107T180000Z
TZOFFSETFROM:+0000
TZOFFSETTO:+0000
END:STANDARD
END:VTIMEZONE
BEGIN:VTIMEZONE
TZID:UTC
BEGIN:STANDARD
DTSTART:20250723T122734Z
TZOFFSETFROM:+0000
TZOFFSETTO:+0000
END:STANDARD
END:VTIMEZONE
BEGIN:VEVENT
UID:207-39
DTSTAMP:20260419T122734Z
SUMMARY:Fall Bocce Ball League
LOCATION:The Village at Woodside 230 Village Green Boulevard  Aiken SC 2980
 3
ORGANIZER;CN=Summer:MAILTO:staylor@woodsidecommunities.com
RRULE:FREQ=WEEKLY;UNTIL=20241031T000000Z
DTSTART;TZID=Etc/GMT+0:20241003T180000
DTEND;TZID=Etc/GMT+0:20241003T190000
X-ALT-DESC;FMTTYPE=TEXT/HTML:Grab your friends and join us for some friendl
 y competition at the Village at Woodside's Fall Bocce Ball League! Enjoy t
 he crisp autumn evenings every Thursday from September 19th to October 24t
 h. The league culminates in an exciting end-of-season tournament on Octobe
 r 24th\, where teams will compete for the ultimate prize. Don’t miss out
  on&amp;hellip\;
CATEGORIES:Village Event
URL;VALUE=URI:https://www.andersonfarmsaiken.com/mc-events/fall-bocce-ball-
 league/?mc_id=207
METHOD:PUBLISH
END:VEVENT
END:VCALENDAR