BEGIN:VCALENDAR
VERSION:2.0
PRODID:spatie/icalendar-generator
DESCRIPTION:Events from Anderson Farms
X-WR-CALDESC:Events from Anderson Farms
REFRESH-INTERVAL;VALUE=DURATION:PT1440M
X-PUBLISHED-TTL:PT1440M
BEGIN:VTIMEZONE
TZID:Etc/GMT+0
BEGIN:STANDARD
DTSTART:20230816T113000Z
TZOFFSETFROM:+0000
TZOFFSETTO:+0000
END:STANDARD
END:VTIMEZONE
BEGIN:VTIMEZONE
TZID:UTC
BEGIN:STANDARD
DTSTART:20250724T065800Z
TZOFFSETFROM:+0000
TZOFFSETTO:+0000
END:STANDARD
END:VTIMEZONE
BEGIN:VEVENT
UID:166-19
DTSTAMP:20260420T065800Z
SUMMARY:Mother's Day Brunch
LOCATION:The Reserve Club at Woodside 3000 The Reserve Club Drive  Aiken SC
  29803
ORGANIZER;CN=Summer:MAILTO:staylor@woodsidecommunities.com
DTSTART;TZID=Etc/GMT+0:20240512T113000
DTEND;TZID=Etc/GMT+0:20240512T133000
X-ALT-DESC;FMTTYPE=TEXT/HTML:Treat the ladies in your life to brunch at the
  Club this Mother's Day with an exclusive menu and featured cocktails. Res
 ervations are limited\; click here for more information about this event!
CATEGORIES:Reserve Club Event
URL;VALUE=URI:https://www.andersonfarmsaiken.com/mc-events/mothers-day-brun
 ch/
METHOD:PUBLISH
END:VEVENT
END:VCALENDAR