BEGIN:VCALENDAR
VERSION:2.0
PRODID:spatie/icalendar-generator
DESCRIPTION:Events from Anderson Farms
X-WR-CALDESC:Events from Anderson Farms
REFRESH-INTERVAL;VALUE=DURATION:PT1440M
X-PUBLISHED-TTL:PT1440M
BEGIN:VTIMEZONE
TZID:Etc/GMT+0
BEGIN:STANDARD
DTSTART:20230820T180000Z
TZOFFSETFROM:+0000
TZOFFSETTO:+0000
END:STANDARD
END:VTIMEZONE
BEGIN:VTIMEZONE
TZID:UTC
BEGIN:STANDARD
DTSTART:20250724T064735Z
TZOFFSETFROM:+0000
TZOFFSETTO:+0000
END:STANDARD
END:VTIMEZONE
BEGIN:VEVENT
UID:162-15
DTSTAMP:20260420T064735Z
SUMMARY:Bocce Ball Spring League
LOCATION:The Village at Woodside 230 Village Green Boulevard  Aiken SC 2980
 3
ORGANIZER;CN=Summer:MAILTO:staylor@woodsidecommunities.com
RRULE:FREQ=WEEKLY;UNTIL=20240523T000000Z
DTSTART;TZID=Etc/GMT+0:20240516T180000
DTEND;TZID=Etc/GMT+0:20240516T190000
X-ALT-DESC;FMTTYPE=TEXT/HTML:Grab your friends and join us every Thursday a
 t 6:00 PM in The Village at Woodside's west pavilion and bocce ball courts
  from April 18th to May 23rd for our Bocce Ball Spring League! $40 registr
 ation fee per team\; all fees go towards the end-of-season Tournament priz
 e pot taking place on May 23rd. Click here&amp;hellip\;
CATEGORIES:Village Event
URL;VALUE=URI:https://www.andersonfarmsaiken.com/mc-events/bocce-ball-sprin
 g-league/?mc_id=162
METHOD:PUBLISH
END:VEVENT
END:VCALENDAR